BEGIN:VCALENDAR
VERSION:2.0
PRODID:-//wp-events-plugin.com//7.2.3.1//EN
TZID:Europe/Paris
X-WR-TIMEZONE:Europe/Paris
BEGIN:VEVENT
UID:4-78@rudologie.yvetot-normandie.fr
DTSTART;TZID=Europe/Paris:20241112T000000
DTEND;TZID=Europe/Paris:20241231T000000
DTSTAMP:20241216T105728Z
URL:https://rudologie.yvetot-normandie.fr/evenement/travaux-damenagement/
SUMMARY:Travaux d'amenagement
DESCRIPTION:\nDurant cette période\, la déchetterrie de Touffreville-la-c
 orbeline ne pourra accueillir l'apport de bois\, de terre et de gravats po
 ur cause de travaux d'amenagement.\n\n\n\n.stk-6ceeb01-column{--stk-column
 -gap:20px !important\;}\n\n.stk-9fcf04d {align-self:center !important\;bac
 kground-color:#ffffff !important\;border-top-left-radius:4px !important\;b
 order-top-right-radius:4px !important\;border-bottom-right-radius:4px !imp
 ortant\;border-bottom-left-radius:4px !important\;overflow:hidden !importa
 nt\;box-shadow:0px 2px 20px #99999933 !important\;}.stk-9fcf04d:before{bac
 kground-color:#ffffff !important\;}@media screen and (min-width: 768px){.s
 tk-9fcf04d {flex:var(--stk-flex-grow\, 1) 1 calc(60.3% - var(--stk-column-
 gap\, 0px) * 1 / 2 ) !important\;}}\n\n\n\n\n.stk-838ef9f {align-self:cent
 er !important\;}@media screen and (min-width: 768px){.stk-838ef9f {flex:va
 r(--stk-flex-grow\, 1) 1 calc(43.79999999999998% - var(--stk-column-gap\, 
 0px) * 1 / 2 ) !important\;}}\n\n\n.stk-9ae084c .stk-img-wrapper{height:34
 6px !important\;}.stk-9ae084c .stk-img-wrapper img{object-fit:contain !imp
 ortant\;}\n\n\n\n\n\n\n\n\n@media screen and (min-width: 768px){.stk-b2bd8
 32 {flex:var(--stk-flex-grow\, 1) 1 calc(56.20000000000002% - var(--stk-co
 lumn-gap\, 0px) * 1 / 2 ) !important\;}}\n\n\nPour ces apports\, vous devr
 ez vous diriger vers la déchetterie de Croix Mare qui sera ouverte except
 ionnellement les jeudis après midi de 14h à 17h\, en plus de ses horaire
 s d'ouverture habituels.\n\n\n\nEn cas de conditions météorologiques dé
 favorables au travaux en cours\, cette durée pourrait être allongée .\n
 \n\n\nMerci de votre compréhension\n\n\n\n\n\n\n\n\n\n\n\n.stk-ba81174 {b
 ackground-color:#ffffff !important\;border-top-left-radius:4px !important\
 ;border-top-right-radius:4px !important\;border-bottom-right-radius:4px !i
 mportant\;border-bottom-left-radius:4px !important\;overflow:hidden !impor
 tant\;box-shadow:0px 2px 20px #99999933 !important\;}.stk-ba81174:before{b
 ackground-color:#ffffff !important\;}@media screen and (min-width: 768px){
 .stk-ba81174 {flex:var(--stk-flex-grow\, 1) 1 calc(39.7% - var(--stk-colum
 n-gap\, 0px) * 1 / 2 ) !important\;}}\n\n\n.stk-97da1e3 {margin-bottom:0px
  !important\;}.stk-97da1e3 .stk-img-wrapper{height:100px !important\;}.stk
 -97da1e3 .stk-img-wrapper img{object-fit:contain !important\;}\n\n\n\n\n\n
 Rappel des horaires de la déchetterie de Croixmare\n\n\n\nDu 1er Octobre 
 au 31 MarsFermé les Mardi\, Jeudi\, Dimanche et jours fériés\n\n\n\n.st
 k-e84a826 {margin-bottom:0px !important\;}.stk-e84a826-column{--stk-column
 s-spacing:0px !important\;}\n\n\n\n\n&nbsp\;\n\n\n\n\n\n\n.stk-867d490 {al
 ign-self:center !important\;}\n\n\nMatin\n\n\n\n\n\n\n.stk-f405473 {align-
 self:center !important\;}\n\n\nAprès-midi\n\n\n\n\n\n\n\n\n\n\n\n\n\n.stk
 -a93c2e3 {margin-bottom:0px !important\;}.stk-a93c2e3-column{--stk-columns
 -spacing:0px !important\;}\n\n\n\n\nLundiMercrediVendredi\n\n\n\n\n\n\n.st
 k-c188622 {align-self:center !important\;}\n\n\n\n \n\n\n\n\n\n\n\n.stk-3
 24971e {align-self:center !important\;}\n\n\nDe14h à 17h\n\n\n\n\n\n\n\n\
 n.stk-cb7b139-column{--stk-columns-spacing:0px !important\;}\n\n\n\n\nSame
 di\n\n\n\n\n\n\n.stk-837117c {align-self:center !important\;}\n\n\n\nDe 10
 h à 12h\n\n\n\n\n\n\n\n.stk-7cab4c7 {align-self:center !important\;}\n\n\
 nDe 13h30 à 17h\n\n\n\n\n\n\n\n\n\n\n\n\n\n\n\n.stk-98e6ab0 {align-self:c
 enter !important\;}\n\n\nJeudi\n\n\n\n\n\n\n\n\n \n\n\n\n\n\n\n\n\nExcept
 ionnelement de 13h30 à 17h\n\n\n\n\n\n\n\n\n\n\n
CATEGORIES:Rudologie
END:VEVENT
BEGIN:VTIMEZONE
TZID:Europe/Paris
X-LIC-LOCATION:Europe/Paris
BEGIN:STANDARD
DTSTART:20241027T020000
TZOFFSETFROM:+0200
TZOFFSETTO:+0100
TZNAME:CET
END:STANDARD
END:VTIMEZONE
END:VCALENDAR