BEGIN:VCALENDAR
VERSION:2.0
PRODID:-//wp-events-plugin.com//7.2.3.1//EN
TZID:Europe/Paris
X-WR-TIMEZONE:Europe/Paris
BEGIN:VEVENT
UID:4-62@rudologie.yvetot-normandie.fr
DTSTART;TZID=Europe/Paris:20241030T000000
DTEND;TZID=Europe/Paris:20241030T000000
DTSTAMP:20241015T145742Z
URL:https://rudologie.yvetot-normandie.fr/evenement/test-graphique/
SUMMARY:Test graphique
DESCRIPTION:
CATEGORIES:Rudologie
END:VEVENT
BEGIN:VTIMEZONE
TZID:Europe/Paris
X-LIC-LOCATION:Europe/Paris
BEGIN:STANDARD
DTSTART:20241027T020000
TZOFFSETFROM:+0200
TZOFFSETTO:+0100
TZNAME:CET
END:STANDARD
END:VTIMEZONE
END:VCALENDAR